BEGIN:VCALENDAR
VERSION:2.0
PRODID:-//ddaysoftware.com//NONSGML DDay.iCal 1.0//EN
BEGIN:VEVENT
DESCRIPTION:Join the Publicity Club of Chicago for the next edition of our 
 Media Studio Tour series.\nOn Wednesday\, July 15\, attendees will get a b
 ehind-the-scenes look at one of Chicago&rsquo\;s most iconic media institu
 tions as programming happens live.\nAfter a strong first visit\, we&rsquo\
 ;re heading back to WGN Radio 720 for another chance to go inside the stat
 ion in real time.\nThis is where daily conversation takes shape. News\, po
 litics\, culture\, and local stories all move through these studios and ou
 t to audiences across radio\, podcasts\, and digital platforms.\nThis memb
 ers-only experience includes a guided walk through the station and a conve
 rsation with on-air talent and leadership.\nYou&rsquo\;ll hear how decisio
 ns get made\, how hosts handle live conversations\, and how stories move f
 rom broadcast to other formats.\nSpace is limited to allow for questions a
 nd discussion.
DTEND:20260715T140000
DTSTAMP:20260421T001438
DTSTART:20260715T123000
LOCATION:303 E. Wacker\, Chicago\, IL 60601
SEQUENCE:0
SUMMARY:Media Studio Tour: WGN Radio 720
UID:c254e777-8dd5-48f2-ba6e-37b83fcb2363
END:VEVENT
END:VCALENDAR
